BEGIN:VCALENDAR
VERSION:2.0
PRODID:-//Escola Oficial d&#039;Idiomes de Palma de Mallorca - ECPv6.6.4.2//NONSGML v1.0//EN
CALSCALE:GREGORIAN
METHOD:PUBLISH
X-WR-CALNAME:Escola Oficial d&#039;Idiomes de Palma de Mallorca
X-ORIGINAL-URL:https://eoipalma.com
X-WR-CALDESC:Esdeveniments per Escola Oficial d&#039;Idiomes de Palma de Mallorca
REFRESH-INTERVAL;VALUE=DURATION:PT1H
X-Robots-Tag:noindex
X-PUBLISHED-TTL:PT1H
BEGIN:VTIMEZONE
TZID:Europe/Madrid
BEGIN:DAYLIGHT
TZOFFSETFROM:+0100
TZOFFSETTO:+0200
TZNAME:CEST
DTSTART:20240331T010000
END:DAYLIGHT
BEGIN:STANDARD
TZOFFSETFROM:+0200
TZOFFSETTO:+0100
TZNAME:CET
DTSTART:20241027T010000
END:STANDARD
END:VTIMEZONE
BEGIN:VEVENT
DTSTART;TZID=Europe/Madrid:20240925T100000
DTEND;TZID=Europe/Madrid:20240925T140000
DTSTAMP:20260421T193438
CREATED:20240915T194637Z
LAST-MODIFIED:20240915T194637Z
UID:36434-1727258400-1727272800@eoipalma.com
SUMMARY:Matrícula presencial de cursos de español
DESCRIPTION:
URL:https://eoipalma.com/event/matricula-presencial-de-cursos-de-espanol/
LOCATION:EOI de Palma\, Carrer d'Aragó\, 59\, Palma de Mallorca\, ILLES BALEARS\, 07005\, Espanya
CATEGORIES:Matrícules
ATTACH;FMTTYPE=image/png:https://eoipalma.com/app/uploads/2024/09/8-24-25-MATRÍCULA-PRESENCIAL-ESPANYOL-PER-ESTRANGERS.png
END:VEVENT
BEGIN:VEVENT
DTSTART;TZID=Europe/Madrid:20240924T160000
DTEND;TZID=Europe/Madrid:20240924T200000
DTSTAMP:20260421T193438
CREATED:20240915T193300Z
LAST-MODIFIED:20240921T162449Z
UID:36428-1727193600-1727208000@eoipalma.com
SUMMARY:Proves presencials d'anivellació excepte anglès
DESCRIPTION:
URL:https://eoipalma.com/event/proves-presencials-danivellacio-excepte-angles/
LOCATION:ILLES BALEARS
CATEGORIES:Prova d'anivellament
ATTACH;FMTTYPE=image/png:https://eoipalma.com/app/uploads/2024/09/6-24-25-PROVA-NIVELL-ONLINE-ALTRES-IDIOMES.png
END:VEVENT
BEGIN:VEVENT
DTSTART;TZID=Europe/Madrid:20240923T120000
DTEND;TZID=Europe/Madrid:20240923T235900
DTSTAMP:20260421T193438
CREATED:20240915T192322Z
LAST-MODIFIED:20240915T192804Z
UID:36426-1727092800-1727135940@eoipalma.com
SUMMARY:Matrícula Alumnat Llista d'espera C2 de català
DESCRIPTION:
URL:https://eoipalma.com/event/matricula-alumnat-llista-despera-c2-de-catala-2/
LOCATION:Telemàtic
CATEGORIES:Matrícules
ATTACH;FMTTYPE=image/png:https://eoipalma.com/app/uploads/2024/09/5-24-25-MATRICULA-LLISTA-DESPERA-C2-CAT.png
END:VEVENT
BEGIN:VEVENT
DTSTART;TZID=Europe/Madrid:20240923T090000
DTEND;TZID=Europe/Madrid:20240930T235900
DTSTAMP:20260421T193438
CREATED:20240915T193716Z
LAST-MODIFIED:20240921T162416Z
UID:36431-1727082000-1727740740@eoipalma.com
SUMMARY:Prova d'anivellació d'anglès on-line darreres vacants
DESCRIPTION:
URL:https://eoipalma.com/event/prova-danivellacio-dangles-on-line-darreres-vacants/
LOCATION:Telemàtic
CATEGORIES:Prova d'anivellament
ATTACH;FMTTYPE=image/png:https://eoipalma.com/app/uploads/2024/09/7-24-25-PROVA-NIVELL-ANGLÈS-ONLINE-DARRERES-VACANTS.png
END:VEVENT
BEGIN:VEVENT
DTSTART;TZID=Europe/Madrid:20240919T090000
DTEND;TZID=Europe/Madrid:20240924T235900
DTSTAMP:20260421T193438
CREATED:20240915T191624Z
LAST-MODIFIED:20240920T174551Z
UID:36420-1726736400-1727222340@eoipalma.com
SUMMARY:Matrícula antic alumnat Curs 24-25
DESCRIPTION:
URL:https://eoipalma.com/event/matricula-antic-alumnat-curs-24-25-2/
LOCATION:Telemàtic
CATEGORIES:Matrícules
ATTACH;FMTTYPE=image/png:https://eoipalma.com/app/uploads/2024/09/4-24-25-MATRICULA-ANTIC-ALUMNAT-SETEMBRE.png
END:VEVENT
BEGIN:VEVENT
DTSTART;TZID=Europe/Madrid:20240917T093000
DTEND;TZID=Europe/Madrid:20240917T113000
DTSTAMP:20260421T193438
CREATED:20241110T084757Z
LAST-MODIFIED:20241110T084913Z
UID:37332-1726565400-1726572600@eoipalma.com
SUMMARY:CCP
DESCRIPTION:Reunió de la Comissió de coordinació pedagògica
URL:https://eoipalma.com/event/ccp-2/
LOCATION:EOI de Palma\, Carrer d'Aragó\, 59\, Palma de Mallorca\, ILLES BALEARS\, 07005\, Espanya
END:VEVENT
BEGIN:VEVENT
DTSTART;TZID=Europe/Madrid:20240905T090000
DTEND;TZID=Europe/Madrid:20240930T235900
DTSTAMP:20260421T193438
CREATED:20240915T190133Z
LAST-MODIFIED:20240920T174530Z
UID:36413-1725526800-1727740740@eoipalma.com
SUMMARY:Matrícula nou alumnat àrab-rus-xinès
DESCRIPTION:
URL:https://eoipalma.com/event/matricula-nou-alumnat-arab-rus-xines/
LOCATION:Telemàtic
CATEGORIES:Matrícules
ATTACH;FMTTYPE=image/png:https://eoipalma.com/app/uploads/2024/09/1-24-25-MATRICULA-ALUMNAT-ARRUXI-1.png
END:VEVENT
BEGIN:VEVENT
DTSTART;TZID=Europe/Madrid:20240905T080000
DTEND;TZID=Europe/Madrid:20240930T235900
DTSTAMP:20260421T193438
CREATED:20240915T190949Z
LAST-MODIFIED:20240920T174514Z
UID:36418-1725523200-1727740740@eoipalma.com
SUMMARY:Matrícula cursos semipresencials docents Caib Curs 24-25
DESCRIPTION:
URL:https://eoipalma.com/event/matricula-cursos-semipresencials-docents-caib-curs-24-25/
LOCATION:EOI de Palma\, Carrer d'Aragó\, 59\, Palma de Mallorca\, ILLES BALEARS\, 07005\, Espanya
CATEGORIES:Matrícules
ATTACH;FMTTYPE=image/png:https://eoipalma.com/app/uploads/2024/09/2-24-25-CURSOS-DOCENTS.png
END:VEVENT
BEGIN:VEVENT
DTSTART;TZID=Europe/Madrid:20240718T090000
DTEND;TZID=Europe/Madrid:20240722T235900
DTSTAMP:20260421T193438
CREATED:20240709T061708Z
LAST-MODIFIED:20240709T061715Z
UID:35975-1721293200-1721692740@eoipalma.com
SUMMARY:Matrícula alumnat en llista d'espera
DESCRIPTION:
URL:https://eoipalma.com/event/matricula-alumnat-en-llista-despera/
LOCATION:Telemàtic
CATEGORIES:Matrícules
ATTACH;FMTTYPE=image/jpeg:https://eoipalma.com/app/uploads/2024/07/image_123650291-1.jpg
END:VEVENT
BEGIN:VEVENT
DTSTART;TZID=Europe/Madrid:20240709T090000
DTEND;TZID=Europe/Madrid:20240716T235900
DTSTAMP:20260421T193438
CREATED:20240709T061506Z
LAST-MODIFIED:20240709T061506Z
UID:35973-1720515600-1721174340@eoipalma.com
SUMMARY:Matrícula nou alumnat admès a la preinscripció
DESCRIPTION:
URL:https://eoipalma.com/event/matricula-nou-alumnat-admes-a-la-preinscripcio/
LOCATION:Telemàtic
CATEGORIES:Matrícules
ATTACH;FMTTYPE=image/jpeg:https://eoipalma.com/app/uploads/2024/07/IMG_7042-1.jpg
END:VEVENT
BEGIN:VEVENT
DTSTART;TZID=Europe/Madrid:20240702T090000
DTEND;TZID=Europe/Madrid:20240708T235900
DTSTAMP:20260421T193438
CREATED:20240630T104612Z
LAST-MODIFIED:20240920T151843Z
UID:35660-1719910800-1720483140@eoipalma.com
SUMMARY:Matrícula Antic Alumnat - Curs 24-25
DESCRIPTION:
URL:https://eoipalma.com/event/matricula-antic-alumnat-curs-24-25/
LOCATION:Telemàtic
CATEGORIES:Matrícules
ATTACH;FMTTYPE=image/png:https://eoipalma.com/app/uploads/2024/06/24-25-MATRICULA-ANTIC-ALUMNAT-JUNY.png
END:VEVENT
BEGIN:VEVENT
DTSTART;TZID=Europe/Madrid:20240628T103000
DTEND;TZID=Europe/Madrid:20240628T113000
DTSTAMP:20260421T193438
CREATED:20240608T085046Z
LAST-MODIFIED:20240630T103107Z
UID:35396-1719570600-1719574200@eoipalma.com
SUMMARY:Claustre professorat
DESCRIPTION:Claustre de tot el professorat a l’Aula multimèdia. 
URL:https://eoipalma.com/event/claustre-professorat/
LOCATION:EOI de Palma\, Carrer d'Aragó\, 59\, Palma de Mallorca\, ILLES BALEARS\, 07005\, Espanya
CATEGORIES:Claustres
END:VEVENT
BEGIN:VEVENT
DTSTART;TZID=Europe/Madrid:20240604T090000
DTEND;TZID=Europe/Madrid:20240613T235900
DTSTAMP:20260421T193438
CREATED:20240608T084600Z
LAST-MODIFIED:20240609T112202Z
UID:35388-1717491600-1718323140@eoipalma.com
SUMMARY:Preinscripció curs 2024-25
DESCRIPTION:Vols aprendre idiomes el curs vinent?  \nDates de preinscripció: del 4 al 13 de juny
URL:https://eoipalma.com/event/preinscripcio-curs-2024-25/
LOCATION:Telemàtic
CATEGORIES:Preinscripció
ATTACH;FMTTYPE=image/png:https://eoipalma.com/app/uploads/2024/06/1.png
END:VEVENT
BEGIN:VEVENT
DTSTART;TZID=Europe/Madrid:20240531T180000
DTEND;TZID=Europe/Madrid:20240531T190000
DTSTAMP:20260421T193438
CREATED:20240608T084741Z
LAST-MODIFIED:20240609T112214Z
UID:35393-1717178400-1717182000@eoipalma.com
SUMMARY:Club de lectura
DESCRIPTION:
URL:https://eoipalma.com/event/club-de-lectura/
LOCATION:EOI de Palma\, Carrer d'Aragó\, 59\, Palma de Mallorca\, ILLES BALEARS\, 07005\, Espanya
CATEGORIES:Club de lectura
ATTACH;FMTTYPE=image/jpeg:https://eoipalma.com/app/uploads/2024/06/cicle-club-de-lectura.jpg
END:VEVENT
BEGIN:VEVENT
DTSTART;TZID=Europe/Madrid:20240517T090000
DTEND;TZID=Europe/Madrid:20240517T110000
DTSTAMP:20260421T193438
CREATED:20240608T084052Z
LAST-MODIFIED:20240609T112233Z
UID:35386-1715936400-1715943600@eoipalma.com
SUMMARY:Formació del professorat
DESCRIPTION:Coeducació en la EOI: atediendo a las desigualdades \nA càrrec de Fem Infància. \nAula Multimèdia.
URL:https://eoipalma.com/event/formacio-del-professorat/
LOCATION:EOI de Palma\, Carrer d'Aragó\, 59\, Palma de Mallorca\, ILLES BALEARS\, 07005\, Espanya
CATEGORIES:Formació del professorat
END:VEVENT
BEGIN:VEVENT
DTSTART;TZID=Europe/Madrid:20240418T190000
DTEND;TZID=Europe/Madrid:20240418T203000
DTSTAMP:20260421T193438
CREATED:20240608T083315Z
LAST-MODIFIED:20240609T112246Z
UID:35376-1713466800-1713472200@eoipalma.com
SUMMARY:Transbord
DESCRIPTION:Tendrem la lectura dramatitzada de l’obra de teatre Transbord. \nAula Multimèdia. \nFORMULARI RESERVA DE PLACES  \n  \n 
URL:https://eoipalma.com/event/transbord/
LOCATION:EOI de Palma\, Carrer d'Aragó\, 59\, Palma de Mallorca\, ILLES BALEARS\, 07005\, Espanya
CATEGORIES:Activitat cultural
ATTACH;FMTTYPE=image/png:https://eoipalma.com/app/uploads/2024/06/Transbord.png
END:VEVENT
END:VCALENDAR