BEGIN:VCALENDAR
VERSION:2.0
PRODID:-//Escola Oficial d&#039;Idiomes de Palma de Mallorca - ECPv6.6.4.2//NONSGML v1.0//EN
CALSCALE:GREGORIAN
METHOD:PUBLISH
X-ORIGINAL-URL:https://eoipalma.com
X-WR-CALDESC:Esdeveniments per Escola Oficial d&#039;Idiomes de Palma de Mallorca
REFRESH-INTERVAL;VALUE=DURATION:PT1H
X-Robots-Tag:noindex
X-PUBLISHED-TTL:PT1H
BEGIN:VTIMEZONE
TZID:Europe/Madrid
BEGIN:DAYLIGHT
TZOFFSETFROM:+0100
TZOFFSETTO:+0200
TZNAME:CEST
DTSTART:20250330T010000
END:DAYLIGHT
BEGIN:STANDARD
TZOFFSETFROM:+0200
TZOFFSETTO:+0100
TZNAME:CET
DTSTART:20251026T010000
END:STANDARD
END:VTIMEZONE
BEGIN:VEVENT
DTSTART;VALUE=DATE:20251002
DTEND;VALUE=DATE:20251014
DTSTAMP:20260421T161345
CREATED:20251005T214644Z
LAST-MODIFIED:20251005T215711Z
UID:41224-1759363200-1760399999@eoipalma.com
SUMMARY:Catàleg dels cursos específics del curs 2025-2026 a l'EOI
DESCRIPTION:Com cada any\, l’Escola Oficial d’Idiomes ofereix cursos específics adaptats a les demandes de l’alumnat.Podeu sol·licitar la vostra plaça del 2 al 13 d’octubre. \n          \n 
URL:https://eoipalma.com/event/cataleg-dels-cursos-especifics-del-curs-2025-2026-a-leoi/
LOCATION:Telemàtic
CATEGORIES:Matrícules
END:VEVENT
END:VCALENDAR