BEGIN:VCALENDAR
VERSION:2.0
PRODID:-//Escola Oficial d&#039;Idiomes de Palma de Mallorca - ECPv6.6.4.2//NONSGML v1.0//EN
CALSCALE:GREGORIAN
METHOD:PUBLISH
X-WR-CALNAME:Escola Oficial d&#039;Idiomes de Palma de Mallorca
X-ORIGINAL-URL:https://eoipalma.com
X-WR-CALDESC:Esdeveniments per Escola Oficial d&#039;Idiomes de Palma de Mallorca
REFRESH-INTERVAL;VALUE=DURATION:PT1H
X-Robots-Tag:noindex
X-PUBLISHED-TTL:PT1H
BEGIN:VTIMEZONE
TZID:Europe/Madrid
BEGIN:DAYLIGHT
TZOFFSETFROM:+0100
TZOFFSETTO:+0200
TZNAME:CEST
DTSTART:20250330T010000
END:DAYLIGHT
BEGIN:STANDARD
TZOFFSETFROM:+0200
TZOFFSETTO:+0100
TZNAME:CET
DTSTART:20251026T010000
END:STANDARD
END:VTIMEZONE
BEGIN:VEVENT
DTSTART;TZID=Europe/Madrid:20250430T170000
DTEND;TZID=Europe/Madrid:20250430T190000
DTSTAMP:20260423T121628
CREATED:20250206T224006Z
LAST-MODIFIED:20250430T074438Z
UID:37870-1746032400-1746039600@eoipalma.com
SUMMARY:Dia contra l'LGTBI-fòbia
DESCRIPTION:Projecció d’un documental i xerrada de sensibilització a càrrec de Maria Nadal Roig  \n(Activitat subvencionada per l’Ajuntament de Palma) \nAforament  màxim: 30 persones \n 
URL:https://eoipalma.com/event/dia-contra-llgtbi-fobia-2/
LOCATION:EOI de Palma\, Carrer d'Aragó\, 59\, Palma de Mallorca\, ILLES BALEARS\, 07005\, Espanya
END:VEVENT
END:VCALENDAR